BEGIN:VCALENDAR
VERSION:2.0
PRODID:-//MMC-Agentur//Calendar Link//DE
CALSCALE:GREGORIAN
METHOD:PUBLISH
BEGIN:VEVENT
UID:event-3889@museum-angerlehner.tld
DTSTAMP:20260420T151844Z
DTSTART:20260516T130000Z
DTEND:20260516T130000Z
SUMMARY:Tempest
DESCRIPTION:Es sind stürmische Zeiten\, in denen sich die Welt gegenwärtig befindet. Die Ausstellung „Tempest“ des ART LINE TRIOS im Salon des Museum Angerlehner nimmt diesen Zustand zum Ausgangspunkt und begreift den Sturm nicht nur als Naturereignis\, sondern als analytische Figur unserer Gegenwart. „Tempest“ erscheint so als ein Raum\, in dem sich Natur\, Bild und gesellschaftliche Realität überlagern und gegenseitig befragen. Zusammenarbeit\, künstlerischer Austausch und stete Neugier werden im Zustand des Umbruchs zur Bedingung – und das ART LINE TRIO setzt genau diese Bedingung als künstlerische Praxis. 
URL;VALUE=URI:https://museum-angerlehner.at/event/eroeffnung-tempest-art-line-trio/
STATUS:CONFIRMED
SEQUENCE:0
END:VEVENT
END:VCALENDAR